BEGIN:VCALENDAR
VERSION:2.0
PRODID:-//Visit Columbia Mississippi - ECPv6.15.20//NONSGML v1.0//EN
CALSCALE:GREGORIAN
METHOD:PUBLISH
X-WR-CALNAME:Visit Columbia Mississippi
X-ORIGINAL-URL:https://visitcolumbiams.com
X-WR-CALDESC:Events for Visit Columbia Mississippi
REFRESH-INTERVAL;VALUE=DURATION:PT1H
X-Robots-Tag:noindex
X-PUBLISHED-TTL:PT1H
BEGIN:VTIMEZONE
TZID:America/Chicago
BEGIN:DAYLIGHT
TZOFFSETFROM:-0600
TZOFFSETTO:-0500
TZNAME:CDT
DTSTART:20250309T080000
END:DAYLIGHT
BEGIN:STANDARD
TZOFFSETFROM:-0500
TZOFFSETTO:-0600
TZNAME:CST
DTSTART:20251102T070000
END:STANDARD
BEGIN:DAYLIGHT
TZOFFSETFROM:-0600
TZOFFSETTO:-0500
TZNAME:CDT
DTSTART:20260308T080000
END:DAYLIGHT
BEGIN:STANDARD
TZOFFSETFROM:-0500
TZOFFSETTO:-0600
TZNAME:CST
DTSTART:20261101T070000
END:STANDARD
BEGIN:DAYLIGHT
TZOFFSETFROM:-0600
TZOFFSETTO:-0500
TZNAME:CDT
DTSTART:20270314T080000
END:DAYLIGHT
BEGIN:STANDARD
TZOFFSETFROM:-0500
TZOFFSETTO:-0600
TZNAME:CST
DTSTART:20271107T070000
END:STANDARD
END:VTIMEZONE
BEGIN:VEVENT
DTSTART;TZID=America/Chicago:20260509T100000
DTEND;TZID=America/Chicago:20260509T160000
DTSTAMP:20260422T054309
CREATED:20260422T002152Z
LAST-MODIFIED:20260422T002152Z
UID:10000184-1778320800-1778342400@visitcolumbiams.com
SUMMARY:Marquee Market
DESCRIPTION:Join us for a fun\, community-filled day at the Marquee Market\, a vendor market inside The Marquee at 618!\nBrowse a variety of local vendors featuring handmade goods\, boutique clothing\, home décor\, baked treats\, specialty items\, and more. Whether you’re shopping for something unique\, grabbing a gift\, or just looking for a great way to spend your day\, there’s something for everyone.\nBring your friends\, bring your family\, and come support small businesses while enjoying the lively atmosphere of The Marquee.\n Local Vendors Unique Finds Snacks & Treats Great Atmosphere\nInterested in becoming a vendor?\nSpots are limited—reach out today to reserve your space!
URL:https://visitcolumbiams.com/event/marquee-market/
LOCATION:Marquee at 618\, 618 Main St\, Columbia\, MS\, United States
CATEGORIES:Marquee Market
ATTACH;FMTTYPE=image/jpeg:https://visitcolumbiams.com/wp-content/uploads/2026/04/0aed3671-9003-4664-91c7-a3e5683762b1-xWZVyZ.jpg
GEO:31.250891;-89.834077
X-APPLE-STRUCTURED-LOCATION;VALUE=URI;X-ADDRESS=Marquee at 618 618 Main St Columbia MS United States;X-APPLE-RADIUS=500;X-TITLE=618 Main St:geo:-89.834077,31.250891
END:VEVENT
BEGIN:VEVENT
DTSTART;TZID=America/Chicago:20260509T190000
DTEND;TZID=America/Chicago:20260509T210000
DTSTAMP:20260422T054309
CREATED:20260422T002154Z
LAST-MODIFIED:20260422T002154Z
UID:10000185-1778353200-1778360400@visitcolumbiams.com
SUMMARY:A Night of Intrigue - Murder Mystery Dinner
DESCRIPTION:Step into a world of suspense\, secrets\, and scandal at The Marquee at 618 with The Detectives at The Marquee! Join us for an unforgettable Murder Mystery Dinner\, where guests become part of the action in a thrilling\, interactive whodunit.\nEnjoy a delectable multi-course meal as you work to unravel the clues\, interrogate suspects\, and uncover the truth behind a chilling crime. Will you solve the mystery before dessert\, or will the culprit remain at large?\nDress in your best sleuthing attire and prepare for a night filled with twists\, turns\, and unexpected revelations. Seats are limited\, so reserve your spot now—before it’s too late!\nTickets available here: A Night of Intrigue: Murder Mystery Dinner Tickets\, Saturday\, May 9-Wednesday\, May 13  •  7 PM-9:30 PM | Eventbrite
URL:https://visitcolumbiams.com/event/a-night-of-intrigue-murder-mystery-dinner/
LOCATION:Marquee at 618\, 618 Main St\, Columbia\, MS\, United States
CATEGORIES:Comedy,Dinner,Dinner Theater
ATTACH;FMTTYPE=image/png:https://visitcolumbiams.com/wp-content/uploads/2026/04/MURDERMARQUEEHEADER-01-6UKsu3.png
GEO:31.250891;-89.834077
X-APPLE-STRUCTURED-LOCATION;VALUE=URI;X-ADDRESS=Marquee at 618 618 Main St Columbia MS United States;X-APPLE-RADIUS=500;X-TITLE=618 Main St:geo:-89.834077,31.250891
END:VEVENT
END:VCALENDAR